BEGIN:VCALENDAR
VERSION:2.0
PRODID:-//West Edge Factory - ECPv6.15.11//NONSGML v1.0//EN
CALSCALE:GREGORIAN
METHOD:PUBLISH
X-WR-CALNAME:West Edge Factory
X-ORIGINAL-URL:https://westedgefactory.com
X-WR-CALDESC:Events for West Edge Factory
REFRESH-INTERVAL;VALUE=DURATION:PT1H
X-Robots-Tag:noindex
X-PUBLISHED-TTL:PT1H
BEGIN:VTIMEZONE
TZID:UTC
BEGIN:STANDARD
TZOFFSETFROM:+0000
TZOFFSETTO:+0000
TZNAME:UTC
DTSTART:20220101T000000
END:STANDARD
END:VTIMEZONE
BEGIN:VEVENT
DTSTART;TZID=UTC:20230905T160000
DTEND;TZID=UTC:20230905T173000
DTSTAMP:20260422T223122
CREATED:20230922T064756Z
LAST-MODIFIED:20230922T064824Z
UID:1584-1693929600-1693935000@westedgefactory.com
SUMMARY:Website Design for Kids Ages 8 - 15
DESCRIPTION:4 Week Website Design Course\nThis is a 4 week course that meets every Tuesday in September. You only need to sign up once.\nStudents will partake in a four-week website design journey through Code.org. At the end of this course students will have the ability to create and manage their own school appropriate website on the Code.org server. Classes will start at 4pm and run until 5:30 every Tuesday in September!
URL:https://westedgefactory.com/event/website-design-for-kids-ages-8-15/
LOCATION:West Edge Factory\, 1040 Vernon St\, Huntington\, WV\, 25704\, United States
ATTACH;FMTTYPE=image/jpeg:https://westedgefactory.com/wp-content/uploads/2023/09/370921769_6225874370869053_2458359216186531105_n.jpg
END:VEVENT
END:VCALENDAR