BEGIN:VCALENDAR
VERSION:2.0
PRODID:-//West Edge Factory - ECPv6.15.11//NONSGML v1.0//EN
CALSCALE:GREGORIAN
METHOD:PUBLISH
X-WR-CALNAME:West Edge Factory
X-ORIGINAL-URL:https://westedgefactory.com
X-WR-CALDESC:Events for West Edge Factory
REFRESH-INTERVAL;VALUE=DURATION:PT1H
X-Robots-Tag:noindex
X-PUBLISHED-TTL:PT1H
BEGIN:VTIMEZONE
TZID:UTC
BEGIN:STANDARD
TZOFFSETFROM:+0000
TZOFFSETTO:+0000
TZNAME:UTC
DTSTART:20220101T000000
END:STANDARD
END:VTIMEZONE
BEGIN:VEVENT
DTSTART;TZID=UTC:20240711T180000
DTEND;TZID=UTC:20240711T200000
DTSTAMP:20260422T221242
CREATED:20240613T175706Z
LAST-MODIFIED:20240613T175706Z
UID:2148-1720720800-1720728000@westedgefactory.com
SUMMARY:Dreamscape - Mixed Media and Paper Sculpture Paintings by Phyllis Renae Wilcox
DESCRIPTION:Experience the immersive exhibit of mixed media and paper sculpture paintings! Each piece celebrates the boundless possibilities of non-objective abstract art. \nThe exhibit may also be viewed Monday through Friday\, July 8-30\, 2024 from 10:00 a.m. – 2:00 p.m.
URL:https://westedgefactory.com/event/dreamscape-mixed-media-and-paper-sculpture-paintings-by-phyllis-renae-wilcox/
LOCATION:West Edge Factory\, 1040 Vernon St\, Huntington\, WV\, 25704\, United States
ATTACH;FMTTYPE=image/png:https://westedgefactory.com/wp-content/uploads/2024/06/2024-06-13-13_56_29-WE-11626-T-PhyllisRenaeWilcox-DreamscapeExhibit-Flyer-8.5x11-5-2024-V2.pdf-Pro.png
ORGANIZER;CN="West Edge Factory":MAILTO:westedge@coalfield-development.org
END:VEVENT
BEGIN:VEVENT
DTSTART;TZID=UTC:20240711T150000
DTEND;TZID=UTC:20240711T170000
DTSTAMP:20260422T221242
CREATED:20240702T152929Z
LAST-MODIFIED:20240702T152929Z
UID:2158-1720710000-1720717200@westedgefactory.com
SUMMARY:Intro to Gaming for Kids
DESCRIPTION:Welcome to Intro to Gaming for Kids 6 to 13! \nCome join us at WestEdge Factory for a fun-filled day of gaming excitement. This in-person event is perfect for kids who love video games and want to learn more about the world of gaming. Our experienced instructors will guide participants through the basics of gaming\, from controls to strategy. Kids will have the chance to play popular games and make new friends who share their passion for gaming. Don’t miss out on this awesome opportunity to level up your gaming skills and have a blast with fellow gamers! Sign up now to secure your spot.
URL:https://westedgefactory.com/event/intro-to-gaming-for-kids/
LOCATION:West Edge Factory\, 1040 Vernon St\, Huntington\, WV\, 25704\, United States
ATTACH;FMTTYPE=image/png:https://westedgefactory.com/wp-content/uploads/2024/07/2024-07-02-11_28_32-Intro-to-Gaming-for-Kids-Tickets-Thu-Jul-11-2024-at-3_00-PM-_-Eventbrite.png
ORGANIZER;CN="West Edge Factory":MAILTO:westedge@coalfield-development.org
END:VEVENT
BEGIN:VEVENT
DTSTART;TZID=UTC:20240710T150000
DTEND;TZID=UTC:20240710T170000
DTSTAMP:20260422T221242
CREATED:20240702T152819Z
LAST-MODIFIED:20240702T152951Z
UID:2155-1720623600-1720630800@westedgefactory.com
SUMMARY:Intro to Web Design for Kids
DESCRIPTION:Welcome to Intro to Web Design for Kids Ages 6 to 13! \nCome join us at WestEdge Factory for a fun-filled event where kids can learn the basics of creating their own websites. This hands-on workshop will cover the fundamentals of HTML and CSS in a playful and engaging way. \nOur experienced instructors will guide the kids through interactive activities and projects\, helping them unleash their creativity and build their very first web pages. By the end of the event\, your child will have the skills to design their own websites and impress their friends and family! \nNo prior experience is required\, just bring your curiosity and enthusiasm. Don’t miss out on this exciting opportunity to dive into the world of web design with other young tech enthusiasts. Sign up now!
URL:https://westedgefactory.com/event/intro-to-web-design-for-kids/
LOCATION:West Edge Factory\, 1040 Vernon St\, Huntington\, WV\, 25704\, United States
ATTACH;FMTTYPE=image/png:https://westedgefactory.com/wp-content/uploads/2024/07/2024-07-02-11_27_24-Intro-to-Web-Design-for-Kids-Tickets-Wed-Jul-10-2024-at-3_00-PM-_-Eventbrite.png
ORGANIZER;CN="West Edge Factory":MAILTO:westedge@coalfield-development.org
END:VEVENT
BEGIN:VEVENT
DTSTART;TZID=UTC:20240709T150000
DTEND;TZID=UTC:20240709T170000
DTSTAMP:20260422T221242
CREATED:20240702T152719Z
LAST-MODIFIED:20240702T153005Z
UID:2152-1720537200-1720544400@westedgefactory.com
SUMMARY:Intro to Coding for Kids
DESCRIPTION:Welcome to Intro to Coding for Kids Ages 6 to 13! \nCome join us at WestEdge Factory for a fun and interactive event where kids can learn the basics of coding. This hands-on workshop is perfect for young tech enthusiasts who want to dive into the world of programming. Our experienced instructors will guide the children through exciting activities that will teach them the fundamentals of coding in a creative and engaging way. \nAt Intro to Coding for Kids\, children will have the opportunity to explore different coding concepts\, work on fun projects\, and unleash their creativity. Whether your child is a complete beginner or has some coding experience\, this event is a great way to spark their interest in technology and develop valuable skills for the future. \nDon’t miss out on this fantastic opportunity to introduce your kids to the exciting world of coding!
URL:https://westedgefactory.com/event/intro-to-coding-for-kids/
LOCATION:West Edge Factory\, 1040 Vernon St\, Huntington\, WV\, 25704\, United States
ATTACH;FMTTYPE=image/png:https://westedgefactory.com/wp-content/uploads/2024/07/2024-07-02-11_26_29-Intro-to-Coding-for-Kids-Tickets-Tue-Jul-9-2024-at-3_00-PM-_-Eventbrite.png
ORGANIZER;CN="West Edge Factory":MAILTO:westedge@coalfield-development.org
END:VEVENT
BEGIN:VEVENT
DTSTART;TZID=UTC:20240618T160000
DTEND;TZID=UTC:20240618T200000
DTSTAMP:20260422T221242
CREATED:20240506T181756Z
LAST-MODIFIED:20240506T181756Z
UID:2129-1718726400-1718740800@westedgefactory.com
SUMMARY:Farmer PRIDE 2024
DESCRIPTION:Date: June 18th\, 2024\nTime: 4:00 PM – 8:00 PM\nLocation: West Edge Factory \nCelebrate diversity and community spirit at our Farmer PRIDE event! This vibrant gathering promises an afternoon and evening packed with engaging activities\, educational workshops\, and family fun. Whether you’re a local farming enthusiast or a supporter of community arts\, there’s something for everyone. \nEvent Highlights Include: \n\nWorkshops: Join us for our interactive sessions\, available on a first-come\, first-served basis. Learn the ins and outs of creating a flourishing garden in our Rainbow Garden Workshop\, where you’ll get hands-on experience building a raised bed and planting a variety of colorful blooms. Or\, dive into the creative world of printmaking with our Screen Printing Workshop\, where you can design and print your own t-shirt.\nLive Music and Performances: Enjoy a lineup of fantastic local musicians and performers who will keep the festive spirit going all evening.\nFood and Art: Indulge in delicious\, locally-sourced food while exploring beautiful art installations and crafts made by talented local artists.\nFamily Fun: Bring the whole family along! There will be plenty of activities to keep children entertained and engaged.\n\nThis event is free and open to all. Join us in celebrating pride\, agriculture\, and creativity in one joyful gathering. Don’t miss out on a day filled with learning\, laughter\, and community pride! \nWe look forward to seeing you there! Let’s grow together at Farmer PRIDE!
URL:https://westedgefactory.com/event/farmer-pride-2024/
LOCATION:WV
ATTACH;FMTTYPE=image/jpeg:https://westedgefactory.com/wp-content/uploads/2024/05/1344E76A-4DAE-461F-8370-1EC1D53DFCDA-1.jpeg
END:VEVENT
BEGIN:VEVENT
DTSTART;TZID=UTC:20240528T180000
DTEND;TZID=UTC:20240528T180000
DTSTAMP:20260422T221242
CREATED:20240520T171502Z
LAST-MODIFIED:20240520T171502Z
UID:2142-1716919200-1716919200@westedgefactory.com
SUMMARY:Make a Junk Journal
DESCRIPTION:Junk journaling is a creative way to store memories and ideas in a handmade book made from recycled materials. Get your tickets here!
URL:https://westedgefactory.com/event/make-a-junk-journal/
LOCATION:West Edge Factory\, 1040 Vernon St\, Huntington\, WV\, 25704\, United States
ATTACH;FMTTYPE=image/jpeg:https://westedgefactory.com/wp-content/uploads/2024/05/https___cdn.evbuc_.com_images_772062219_362385469835_1_original.jpg
END:VEVENT
BEGIN:VEVENT
DTSTART;TZID=UTC:20240507T173000
DTEND;TZID=UTC:20240507T193000
DTSTAMP:20260422T221242
CREATED:20240409T161547Z
LAST-MODIFIED:20240409T161547Z
UID:2114-1715103000-1715110200@westedgefactory.com
SUMMARY:Hip Hop Dance Class
DESCRIPTION:ALL AGES WELCOME! Come out and get your hip-hop on! You do NOT need any previous experience to get the full experience. \nReserve your spot here: https://www.eventbrite.com/e/hip-hop-dance-class-tickets-880291685127?aff=oddtdtcreator
URL:https://westedgefactory.com/event/hip-hop-dance-class/
LOCATION:West Edge Factory\, 1040 Vernon St\, Huntington\, WV\, 25704\, United States
ATTACH;FMTTYPE=image/jpeg:https://westedgefactory.com/wp-content/uploads/2024/04/https___cdn.evbuc_.com_images_739454079_362385469835_1_original.jpg
ORGANIZER;CN="West Edge Factory":MAILTO:westedge@coalfield-development.org
END:VEVENT
BEGIN:VEVENT
DTSTART;TZID=UTC:20240320T180000
DTEND;TZID=UTC:20240320T200000
DTSTAMP:20260422T221242
CREATED:20240301T193220Z
LAST-MODIFIED:20240301T193220Z
UID:2058-1710957600-1710964800@westedgefactory.com
SUMMARY:Alcohol Ink Art Workshop
DESCRIPTION:You’ll use alcohol inks to create a vibrant and stunning abstract painting. \n\n\n\n\n\n\n\nAlcohol ink art is a contemporary paining technique that involves using alcohol-based inks to create colorful and fluid compositions. You’ll have 2 opportunities to attend this amazing workshop. If you can’t make it in March\, come in April.
URL:https://westedgefactory.com/event/alcohol-ink-art-workshop/
LOCATION:West Edge Factory\, 1040 Vernon St\, Huntington\, WV\, 25704\, United States
ATTACH;FMTTYPE=image/jpeg:https://westedgefactory.com/wp-content/uploads/2024/03/https___cdn.evbuc_.com_images_709107659_362385469835_1_original.jpg
END:VEVENT
BEGIN:VEVENT
DTSTART;TZID=UTC:20240413T190000
DTEND;TZID=UTC:20240413T220000
DTSTAMP:20260422T221242
CREATED:20240318T174904Z
LAST-MODIFIED:20240318T174904Z
UID:2088-1713034800-1713045600@westedgefactory.com
SUMMARY:Blooms From Your Back Yard
DESCRIPTION:Bring your own blooms or use the ones we’ll provide to learn the art of floral design. \nJoin us for a Blooms from Your Backyard Workshop! \nDiscover the art of floral design using the natural beauty of your own garden. In this hands-on workshop\, you’ll learn how to create stunning floral arrangements using freshly picked blooms\, foliage\, and greenery from your yard and if you don’t have any\, we’ll provide them. Our experienced instructors will guide you through essential techniques and provide creative tips for crafting beautiful arrangements that reflect the unique charm of your homegrown flowers. \nWhether you’re a seasoned gardener or just beginning to explore the world of floral design\, this workshop offers a wonderful opportunity to connect with nature and unleash your creativity. Don’t miss this chance to transform your backyard bounty into stunning floral masterpieces!
URL:https://westedgefactory.com/event/blooms-from-your-back-yard/
LOCATION:West Edge Factory\, 1040 Vernon St\, Huntington\, WV\, 25704\, United States
ATTACH;FMTTYPE=image/jpeg:https://westedgefactory.com/wp-content/uploads/2024/03/https___cdn.evbuc_.com_images_691467799_362385469835_1_original.jpg
ORGANIZER;CN="West Edge Factory":MAILTO:westedge@coalfield-development.org
END:VEVENT
BEGIN:VEVENT
DTSTART;TZID=UTC:20240321T180000
DTEND;TZID=UTC:20240321T200000
DTSTAMP:20260422T221242
CREATED:20240226T154904Z
LAST-MODIFIED:20240226T154904Z
UID:2052-1711044000-1711051200@westedgefactory.com
SUMMARY:Figure Drawing - It's for YOU!
DESCRIPTION:Learn figure drawing with both live models and no-so-live models (a classroom skeleton.)
URL:https://westedgefactory.com/event/figure-drawing-its-for-you/
LOCATION:West Edge Factory\, 1040 Vernon St\, Huntington\, WV\, 25704\, United States
ATTACH;FMTTYPE=image/jpeg:https://westedgefactory.com/wp-content/uploads/2024/02/https___cdn.evbuc_.com_images_705396369_362385469835_1_original.jpg
END:VEVENT
BEGIN:VEVENT
DTSTART;TZID=UTC:20240320T180000
DTEND;TZID=UTC:20240320T200000
DTSTAMP:20260422T221242
CREATED:20240301T193220Z
LAST-MODIFIED:20240301T193220Z
UID:2058-1710957600-1710964800@westedgefactory.com
SUMMARY:Alcohol Ink Art Workshop
DESCRIPTION:You’ll use alcohol inks to create a vibrant and stunning abstract painting. \n\n\n\n\n\n\n\nAlcohol ink art is a contemporary paining technique that involves using alcohol-based inks to create colorful and fluid compositions. You’ll have 2 opportunities to attend this amazing workshop. If you can’t make it in March\, come in April.
URL:https://westedgefactory.com/event/alcohol-ink-art-workshop/
LOCATION:West Edge Factory\, 1040 Vernon St\, Huntington\, WV\, 25704\, United States
ATTACH;FMTTYPE=image/jpeg:https://westedgefactory.com/wp-content/uploads/2024/03/https___cdn.evbuc_.com_images_709107659_362385469835_1_original.jpg
END:VEVENT
BEGIN:VEVENT
DTSTART;TZID=UTC:20240319T180000
DTEND;TZID=UTC:20240319T200000
DTSTAMP:20260422T221242
CREATED:20240301T193045Z
LAST-MODIFIED:20240301T193045Z
UID:2055-1710871200-1710878400@westedgefactory.com
SUMMARY:Free Collage Workshop
DESCRIPTION:Come out to West Edge Factory in Huntington’s west end for an evening magazine collage workshop\, all materials provided! \nIf you’ve been looking for a creative outlet\, come out to the West Edge Factory’s Turret Gallery on March 19th from 6-8pm! We’ll be making collage art pieces on cardboard backing using a heap of magazines from Nat Geo to Vanity Fair. The event is free (donations are always welcome) — please enter through the door with “Turret Gallery” on the wall under it. If you are unable to use stairs\, we’ll have a door propped open on the side of the gallery where you can just drive up. This is an event for adults and kids alike (anyone who can hold a pair of scissors) so bring friends and family! Please RSVP so we can get a headcount. Direct any questions to hwilsonblack@coalfield-development.org.
URL:https://westedgefactory.com/event/free-collage-workshop/
LOCATION:West Edge Factory\, 1040 Vernon St\, Huntington\, WV\, 25704\, United States
ATTACH;FMTTYPE=image/jpeg:https://westedgefactory.com/wp-content/uploads/2024/03/https___cdn.evbuc_.com_images_709400349_1357925612463_1_original.jpg
END:VEVENT
BEGIN:VEVENT
DTSTART;TZID=UTC:20240218T160000
DTEND;TZID=UTC:20240218T200000
DTSTAMP:20260422T221242
CREATED:20231219T150844Z
LAST-MODIFIED:20240116T180341Z
UID:1955-1708272000-1708286400@westedgefactory.com
SUMMARY:20th Anniversary - The Lady and The Empress
DESCRIPTION:Join us for this special 20th anniversary production of “The Lady and The Empress” written and performed by the renowned Lady D (Doris Fields) honoring the life and music of blues legend Bessie Smith.
URL:https://westedgefactory.com/event/20th-anniversary-the-lady-and-the-empress/
LOCATION:West Edge Factory\, 1040 Vernon St\, Huntington\, WV\, 25704\, United States
ATTACH;FMTTYPE=image/jpeg:https://westedgefactory.com/wp-content/uploads/2023/12/WE-11354-T-TheLadyandTheEmpress-Flyer-8.5x11-11-2023-V12.jpg
END:VEVENT
BEGIN:VEVENT
DTSTART;TZID=UTC:20240217T100000
DTEND;TZID=UTC:20240217T120000
DTSTAMP:20260422T221242
CREATED:20240108T201829Z
LAST-MODIFIED:20240108T201829Z
UID:1960-1708164000-1708171200@westedgefactory.com
SUMMARY:Collage Workshop
DESCRIPTION:Learn how to make a simple collage using found papers and collage fodder (painted papers). We will be completing a grid of six 3″ collages in class. Find out how scale\, color\, pattern and repetition work together to make a successful collage. Collage fodder and found papers will be provided\, but if you have your own paper that you would like to use\, please bring it. All other supplies will be provided.
URL:https://westedgefactory.com/event/collage-workshop/
LOCATION:West Edge Factory\, 1040 Vernon St\, Huntington\, WV\, 25704\, United States
ATTACH;FMTTYPE=image/jpeg:https://westedgefactory.com/wp-content/uploads/2024/01/https___cdn.evbuc_.com_images_666943869_362385469835_1_original.jpg
END:VEVENT
BEGIN:VEVENT
DTSTART;TZID=UTC:20240216T183000
DTEND;TZID=UTC:20240216T203000
DTSTAMP:20260422T221242
CREATED:20240108T202218Z
LAST-MODIFIED:20240108T202218Z
UID:1963-1708108200-1708115400@westedgefactory.com
SUMMARY:King Coal - Movie Screening
DESCRIPTION:Central Appalachia is a place of mountains and myth. Director Elaine McMillion Sheldon knows this well\, calling those mountains home. Coal has had a profound influence on this community’s identity\, but Sheldon dares to consider what future stories might look like out of the shadow of coal\, now that relationships to coal are changing. She takes us on an alluring cinematic journey through the past\, present\, and future of Appalachia. \nSheldon’s distinct vision remixes present-day moments of life in a coal-mining town with archival footage and atmospheric invocations of the land to alchemize something new — a rare\, nuanced depiction of this community. A young girl learning the story of coal anchors the journey while Sheldon’s poetic voiceover guides us through the experience and an expressive score differentiates the reality of coal from a more imaginative world. The hybrid approach allows Sheldon to explore the act of storytelling itself and is a magical reclamation of the power of stories to shape how a region sees itself. The end of one story welcomes the beginning of another.
URL:https://westedgefactory.com/event/king-coal-movie-screening/
LOCATION:West Edge Factory\, 1040 Vernon St\, Huntington\, WV\, 25704\, United States
ATTACH;FMTTYPE=image/jpeg:https://westedgefactory.com/wp-content/uploads/2024/01/42c71268-23dd-a237-f07c-9c8bdd000188-scaled.jpg
END:VEVENT
BEGIN:VEVENT
DTSTART;TZID=UTC:20240210T130000
DTEND;TZID=UTC:20240210T150000
DTSTAMP:20260422T221242
CREATED:20240108T202639Z
LAST-MODIFIED:20240108T203028Z
UID:1966-1707570000-1707577200@westedgefactory.com
SUMMARY:Leigh McDonald Exhibit
DESCRIPTION:Leigh E McDonald is a fiber and mixed media artist living in Proctorville\, Ohio. After retiring from teaching art quilting for 20 years she is continuing her art adventure in fibers and mixed media collage paintings. Leigh has always been known for her adventurous spirit and her willingness to try new techniques and processes in art. She is a member of the Tri-State Arts Association and the Innovative Fiber Artists Network. Her work can be seen in the upcoming exhibit\, Nature Collaged\, during the month of February at the West Edge Gallery in Westmoreland. \nInstagram | Website \n 
URL:https://westedgefactory.com/event/leigh-mcdonald-exhibit/
LOCATION:West Edge Factory\, 1040 Vernon St\, Huntington\, WV\, 25704\, United States
ATTACH;FMTTYPE=image/jpeg:https://westedgefactory.com/wp-content/uploads/2024/01/38cc6ab4-6a7f-bdbc-891b-d8cfd837f02b.jpg
END:VEVENT
BEGIN:VEVENT
DTSTART;TZID=UTC:20240127T130000
DTEND;TZID=UTC:20240127T150000
DTSTAMP:20260422T221242
CREATED:20240108T202856Z
LAST-MODIFIED:20240116T180523Z
UID:1969-1706360400-1706367600@westedgefactory.com
SUMMARY:Alley Gallery Drive-Thru Exhibit
DESCRIPTION:One of our first events to look forward to in the new year will be a drive-through showing of our latest installation\, the Alley Gallery\, on January 27th. Thanks to the contributions of the Governor’s School of the Arts from the summer of 2023\, this outdoor exhibit on the Northern exterior of West Edge will showcase paintings from young artists from across West Virginia. Expect plenty of hot cocoa and live music as well as a chance to learn about the artists and the inspiration behind these wonderful paintings.
URL:https://westedgefactory.com/event/alley-gallery-drive-thru-exhibit/
LOCATION:West Edge Factory\, 1040 Vernon St\, Huntington\, WV\, 25704\, United States
ATTACH;FMTTYPE=image/png:https://westedgefactory.com/wp-content/uploads/2024/01/AlleyGalleryFlyer-1.png
END:VEVENT
BEGIN:VEVENT
DTSTART;TZID=UTC:20240113T170000
DTEND;TZID=UTC:20240113T200000
DTSTAMP:20260422T221242
CREATED:20231219T150337Z
LAST-MODIFIED:20231219T150337Z
UID:1952-1705165200-1705176000@westedgefactory.com
SUMMARY:Arlo McKinley\, Buffalo Wabs & The Price Hill Hustle\, The Settlement & MORE
DESCRIPTION:All Ages \n$35 Presale $45 Day of Show \nDoors @ 5pm / Show @ 6pm \nArlo McKinley \nBuffalo Wabs & The Price Hill Hustle \nThe Settlement \nCharlie Brown Superstar \nJake Dunn & The Blackbirds \nBek & The Starlight Revue \nHunter Flynn \nMore details to be announced soon!
URL:https://westedgefactory.com/event/arlo-mckinley-buffalo-wabs-the-price-hill-hustle-the-settlement-more/
LOCATION:West Edge Factory\, 1040 Vernon St\, Huntington\, WV\, 25704\, United States
ATTACH;FMTTYPE=image/jpeg:https://westedgefactory.com/wp-content/uploads/2023/12/1000012000.jpg
END:VEVENT
BEGIN:VEVENT
DTSTART;TZID=UTC:20231124T100000
DTEND;TZID=UTC:20231125T170000
DTSTAMP:20260422T221242
CREATED:20230922T145258Z
LAST-MODIFIED:20231031T191745Z
UID:1612-1700820000-1700931600@westedgefactory.com
SUMMARY:Black FriYAY! and Tiny Business SaturYAY!
DESCRIPTION:This holiday season\, does the idea of being trampled in a big box store at 4:00 am appeal to you? Of course not! West Edge Factory has an alternative. Join us November 24th-25th for Black FriYAY! and Tiny Business SaturYAY! But unique\, one-of-a-kind gifts for all the people on your list from artists\, authors\, craftspersons\, and musicians. \nEnjoy food\, music\, and true holiday spirit! \nInterested in becoming a vendor? Email westedge@coalfield-development.org.
URL:https://westedgefactory.com/event/black-friyay-and-tiny-business-saturyay/
LOCATION:West Edge Factory\, 1040 Vernon St\, Huntington\, WV\, 25704\, United States
ATTACH;FMTTYPE=image/png:https://westedgefactory.com/wp-content/uploads/2023/09/west-edge-poster-1.png
ORGANIZER;CN="West Edge Factory":MAILTO:westedge@coalfield-development.org
END:VEVENT
BEGIN:VEVENT
DTSTART;TZID=UTC:20231104T100000
DTEND;TZID=UTC:20231104T120000
DTSTAMP:20260422T221242
CREATED:20231024T165039Z
LAST-MODIFIED:20231024T165039Z
UID:1871-1699092000-1699099200@westedgefactory.com
SUMMARY:Collage Fodder Workshop
DESCRIPTION:Join us and learn to make shibori\, the ancient Japanese art of paper felting. \n\n\n\nInstructor: Leigh E McDonald\, Mixed Media\, Fiber Artist and Author \n  \nInstagram: @leighemcdonald \n  \nWe will be painting 3 different types of papers for collage\, scrapbooking\, or art journaling. The popular term for these papers is Collage Fodder. We will paint papers with bubbles\, make tissue paper in a variety of colors and make shibori paper (folded and dyed with inks or paints). The techniques are fun and unusual. Leigh uses these papers in her acrylic collage paintings and other projects. You can see some of her work on Instagram. Please join us for a fun\, lighthearted\, technique packed workshop. All supplies are provided. \n  \nThere will be a follow-up workshop using the papers to make collage grids in February when Leigh has a solo show at the West Edge Gallery. \n\nPurchase tickets here!
URL:https://westedgefactory.com/event/collage-fodder-workshop/
LOCATION:West Edge Factory\, 1040 Vernon St\, Huntington\, WV\, 25704\, United States
ATTACH;FMTTYPE=image/jpeg:https://westedgefactory.com/wp-content/uploads/2023/10/https___cdn.evbuc_.com_images_617441039_362385469835_1_original.jpg
END:VEVENT
BEGIN:VEVENT
DTSTART;TZID=UTC:20231102T093000
DTEND;TZID=UTC:20231102T153000
DTSTAMP:20260422T221242
CREATED:20231024T164907Z
LAST-MODIFIED:20231024T164929Z
UID:1867-1698917400-1698939000@westedgefactory.com
SUMMARY:Basket Weaving
DESCRIPTION:Come and weave a handy market basket to hold items while you shop. \n\n\n\n\n\n\n\nYou will learn basic weaving skills such as creating rounded corners\, continuous weave and shaping techniques. \n\n\n\n\n\n\nPurchase tickets here!
URL:https://westedgefactory.com/event/basket-weaving/
LOCATION:West Edge Factory\, 1040 Vernon St\, Huntington\, WV\, 25704\, United States
ATTACH;FMTTYPE=image/jpeg:https://westedgefactory.com/wp-content/uploads/2023/10/https___cdn.evbuc_.com_images_606539859_362385469835_1_original.jpg
END:VEVENT
BEGIN:VEVENT
DTSTART;TZID=UTC:20231006T190000
DTEND;TZID=UTC:20231006T210000
DTSTAMP:20260422T221242
CREATED:20230922T144818Z
LAST-MODIFIED:20230922T144836Z
UID:1608-1696618800-1696626000@westedgefactory.com
SUMMARY:A Surreal Journey Into Decay - Art Exhibit
DESCRIPTION:Explore the whimsical world of 2022 Tamarack Fellow Rachel Dennison at West Edge in Huntington\, WV. In this exhibit\, Rachel’s fantasy inspired works provide a unique commentary on West Virginia and issues that resonate with its residents through ideological and physical states of decay and new growth. October is the perfect month to introduce yourself to this amazing artist. \nAbout the Artist\nRachel is a creator living in wild and wonderful West Virginia. She has lived in her old farmhouse with her wife\, Sarah\, for years now. Rachel left the city for the edge of the woods to bring her closer to both her family and the natural world. Her work focuses on the intersection of the everyday and the surreal. She creates whimsical paintings often focused on personal growth and societal issues. Described through natural elements. Growing up in a remote area\, she quickly learned that having a vivid imagination made for more exciting adventures.
URL:https://westedgefactory.com/event/a-surreal-journey-into-decay-art-exhibit/
LOCATION:West Edge Factory\, 1040 Vernon St\, Huntington\, WV\, 25704\, United States
ATTACH;FMTTYPE=image/png:https://westedgefactory.com/wp-content/uploads/2023/09/a-surreal-journey-into-decay-art-exhibit.png
END:VEVENT
BEGIN:VEVENT
DTSTART;TZID=UTC:20230921T180000
DTEND;TZID=UTC:20230921T210000
DTSTAMP:20260422T221242
CREATED:20230922T064948Z
LAST-MODIFIED:20230922T064948Z
UID:1587-1695319200-1695330000@westedgefactory.com
SUMMARY:Badass Studio Sale
DESCRIPTION:Come enjoy good company and refreshments! If you never made it to the 100 Badass Women show at the Huntington Museum\, this is a great opportunity to see these paintings in person. Hope to see you there! Part of the proceeds of this sale will benefit future community art programming at West Edge Factory
URL:https://westedgefactory.com/event/badass-studio-sale/
LOCATION:West Edge Factory\, 1040 Vernon St\, Huntington\, WV\, 25704\, United States
ATTACH;FMTTYPE=image/jpeg:https://westedgefactory.com/wp-content/uploads/2023/09/372635050_10106617618257183_5858735000900299016_n.jpg
END:VEVENT
BEGIN:VEVENT
DTSTART;TZID=UTC:20230914T100000
DTEND;TZID=UTC:20230914T113000
DTSTAMP:20260422T221242
CREATED:20230922T064546Z
LAST-MODIFIED:20230922T064546Z
UID:1579-1694685600-1694691000@westedgefactory.com
SUMMARY:Fabric Collage
DESCRIPTION:Create a story\, a mood\, a message and above all to express yourself with Fabric Collage!\nIn this workshop you will learn the techniques and finish a simple fabric collage. Topics of discussion will include the step by step process\, fabric selection (prints\, patterns\, color and value) and a variety of finishing techniques. Please feel free to bring any fabrics or swatch of clothing that you like or has a special meaning that you would like to include your project. This project does not require sewing.
URL:https://westedgefactory.com/event/fabric-collage/
LOCATION:West Edge Factory\, 1040 Vernon St\, Huntington\, WV\, 25704\, United States
ATTACH;FMTTYPE=image/jpeg:https://westedgefactory.com/wp-content/uploads/2023/09/371834814_6225870977536059_5479391905180369960_n.jpg
END:VEVENT
BEGIN:VEVENT
DTSTART;TZID=UTC:20230905T160000
DTEND;TZID=UTC:20230905T173000
DTSTAMP:20260422T221242
CREATED:20230922T064756Z
LAST-MODIFIED:20230922T064824Z
UID:1584-1693929600-1693935000@westedgefactory.com
SUMMARY:Website Design for Kids Ages 8 - 15
DESCRIPTION:4 Week Website Design Course\nThis is a 4 week course that meets every Tuesday in September. You only need to sign up once.\nStudents will partake in a four-week website design journey through Code.org. At the end of this course students will have the ability to create and manage their own school appropriate website on the Code.org server. Classes will start at 4pm and run until 5:30 every Tuesday in September!
URL:https://westedgefactory.com/event/website-design-for-kids-ages-8-15/
LOCATION:West Edge Factory\, 1040 Vernon St\, Huntington\, WV\, 25704\, United States
ATTACH;FMTTYPE=image/jpeg:https://westedgefactory.com/wp-content/uploads/2023/09/370921769_6225874370869053_2458359216186531105_n.jpg
END:VEVENT
END:VCALENDAR