BEGIN:VCALENDAR
VERSION:2.0
PRODID:-//West Edge Factory - ECPv6.15.11//NONSGML v1.0//EN
CALSCALE:GREGORIAN
METHOD:PUBLISH
X-ORIGINAL-URL:https://westedgefactory.com
X-WR-CALDESC:Events for West Edge Factory
REFRESH-INTERVAL;VALUE=DURATION:PT1H
X-Robots-Tag:noindex
X-PUBLISHED-TTL:PT1H
BEGIN:VTIMEZONE
TZID:UTC
BEGIN:STANDARD
TZOFFSETFROM:+0000
TZOFFSETTO:+0000
TZNAME:UTC
DTSTART:20250101T000000
END:STANDARD
END:VTIMEZONE
BEGIN:VEVENT
DTSTART;TZID=UTC:20260307T070000
DTEND;TZID=UTC:20260307T210000
DTSTAMP:20260422T090156
CREATED:20260204T140521Z
LAST-MODIFIED:20260204T140713Z
UID:2662-1772866800-1772917200@westedgefactory.com
SUMMARY:March First Saturday @ West Edge w/ Bek & the Starlight Revue
DESCRIPTION:First Weekends @ West Edge continue this March with the dulcet tones of Bek & the Starlight Revue:\n\n“Hailing from the mountains of East Kentucky\, Bek and the Starlight Revue features a unique blend of rock and roll with down-home roots. Bringing a distinct voice that takes you to a place where Appalachia\, soul\, and rock and rollmeet\, the female-led\, eclectic ensemble features songwriting that is personal\, from the heart\, honest\, and relatable. The unexpected mix of country and rock and roll is reminiscent of a dance between the two\, where rock and roll most definitely takes the lead.”\n\nIf you’ve been to a West Edge show before\, you can expect one of our trademark collaborative art experiences leading up to showtime!\n\nTickets are $10 at the door.\n\nDoors open @ 5:30 – Show starts @ 7\n\nWe can’t wait to see you there!
URL:https://westedgefactory.com/event/march-first-saturday-west-edge-w-bek-the-starlight-revue/
LOCATION:West Edge Factory\, 1040 Vernon St\, Huntington\, WV\, 25704\, United States
ATTACH;FMTTYPE=image/jpeg:https://westedgefactory.com/wp-content/uploads/2026/02/Bek-the-Starlight-concert-poster-1.jpg
END:VEVENT
BEGIN:VEVENT
DTSTART;TZID=UTC:20260307T110000
DTEND;TZID=UTC:20260307T160000
DTSTAMP:20260422T090156
CREATED:20260107T164606Z
LAST-MODIFIED:20260204T140130Z
UID:2604-1772881200-1772899200@westedgefactory.com
SUMMARY:First Saturday Art Market Kickoff!
DESCRIPTION:Join us at West Edge Factory for the launch of a new monthly tradition\, the First Saturday Art Market\, happening Saturday\, March 7\, 2026\, from 11 AM to 4 PM.\n\nWe originally planned to kick off this series in February\, but winter weather had other plans. Now we are trying again\, and we are excited to welcome the community for the first market in what will become an ongoing First Weekend event.\n\nThe market will feature 40 Appalachian vendors\, including craftspeople\, makers\, and artists of all kinds\, all sharing unique handmade goods. Enjoy live local music throughout the day and farm to table food prepared by The Wild Ramp.\n\nThe Turret Gallery will be open with Earth and Blood: Ceramic Works by Josh Perry on view. There will be plenty for everyone to enjoy\, with kids activities\, hands on art experiences\, and time to explore and create together.\n\nVisitors are invited to take part in our 2026 Community Mural called Solidarity\, adding their own piece to a collective artwork that will grow over the year.\n\nWe are looking forward to gathering together\, celebrating Appalachian creativity\, and spending the day with you!\n\n 
URL:https://westedgefactory.com/event/first-saturday-art-market-kickoff/
LOCATION:West Edge Factory\, 1040 Vernon St\, Huntington\, WV\, 25704\, United States
ATTACH;FMTTYPE=image/jpeg:https://westedgefactory.com/wp-content/uploads/2026/01/March-First-Saturday-2.jpg
END:VEVENT
END:VCALENDAR